BEGIN:VCALENDAR
VERSION:2.0
PRODID:-//Saalfelden-Leogang.com//NONSGML kigkonsult.se iCalcreator 2.22.1/
 /EN
METHOD:PUBLISH
X-WR-CALNAME;LANGUAGE=en:Saalfelden-Leogang.com
X-WR-CALDESC;LANGUAGE=en:Saalfelden-Leogang.com
X-WR-TIMEZONE;LANGUAGE=en:Europe/Berlin
BEGIN:VEVENT
UID:20260420T084019CEST-3552AV26et@Saalfelden-Leogang.com
DTSTAMP:20260420T064019Z
DESCRIPTION;LANGUAGE=en:Learn cross-country skiing with Andrea Grossegger\n
 \n\n\nTime: \n\nWednesday\, 1:00 p.m.\n\n\n\nDuration: approx. 2 hours\n\n
 \n\n\n\nMeeting point: Nordic Park Saalfelden\n\n\n\n\n\nCost: included wi
 th the Saalfelden Leogang Card\, without card €30 per person\n\n\n\n\n\nEq
 uipment: Sport Grossegger\, Andrea Grossegger\, Tel: +43 664 5309289\n\n\n
 \n\n\n\n\n\n\nTo register\, scroll down further
DTSTART:20261223T120000Z
DTEND:20261223T120000Z
LOCATION;LANGUAGE=en:Nordic Park\, Saalfelden
SUMMARY;LANGUAGE=en:Langlauf Schnuppertraining
END:VEVENT
BEGIN:VEVENT
UID:20260420T084019CEST-35549Ehswt@Saalfelden-Leogang.com
DTSTAMP:20260420T064019Z
DESCRIPTION;LANGUAGE=en:Learn cross-country skiing with Andrea Grossegger\n
 \n\n\nTime: \n\nWednesday\, 1:00 p.m.\n\n\n\nDuration: approx. 2 hours\n\n
 \n\n\n\nMeeting point: Nordic Park Saalfelden\n\n\n\n\n\nCost: included wi
 th the Saalfelden Leogang Card\, without card €30 per person\n\n\n\n\n\nEq
 uipment: Sport Grossegger\, Andrea Grossegger\, Tel: +43 664 5309289\n\n\n
 \n\n\n\n\n\n\nTo register\, scroll down further
DTSTART:20261230T120000Z
DTEND:20261230T120000Z
LOCATION;LANGUAGE=en:Nordic Park\, Saalfelden
SUMMARY;LANGUAGE=en:Langlauf Schnuppertraining
END:VEVENT
BEGIN:VEVENT
UID:20260420T084019CEST-35558RrcNt@Saalfelden-Leogang.com
DTSTAMP:20260420T064019Z
DESCRIPTION;LANGUAGE=en:Learn cross-country skiing with Andrea Grossegger\n
 \n\n\nTime: \n\nWednesday\, 1:00 p.m.\n\n\n\nDuration: approx. 2 hours\n\n
 \n\n\n\nMeeting point: Nordic Park Saalfelden\n\n\n\n\n\nCost: included wi
 th the Saalfelden Leogang Card\, without card €30 per person\n\n\n\n\n\nEq
 uipment: Sport Grossegger\, Andrea Grossegger\, Tel: +43 664 5309289\n\n\n
 \n\n\n\n\n\n\nTo register\, scroll down further
DTSTART:20270106T120000Z
DTEND:20270106T120000Z
LOCATION;LANGUAGE=en:Nordic Park\, Saalfelden
SUMMARY;LANGUAGE=en:Langlauf Schnuppertraining
END:VEVENT
BEGIN:VEVENT
UID:20260420T084019CEST-3557FbaNaE@Saalfelden-Leogang.com
DTSTAMP:20260420T064019Z
DESCRIPTION;LANGUAGE=en:Learn cross-country skiing with Andrea Grossegger\n
 \n\n\nTime: \n\nWednesday\, 1:00 p.m.\n\n\n\nDuration: approx. 2 hours\n\n
 \n\n\n\nMeeting point: Nordic Park Saalfelden\n\n\n\n\n\nCost: included wi
 th the Saalfelden Leogang Card\, without card €30 per person\n\n\n\n\n\nEq
 uipment: Sport Grossegger\, Andrea Grossegger\, Tel: +43 664 5309289\n\n\n
 \n\n\n\n\n\n\nTo register\, scroll down further
DTSTART:20270113T120000Z
DTEND:20270113T120000Z
LOCATION;LANGUAGE=en:Nordic Park\, Saalfelden
SUMMARY;LANGUAGE=en:Langlauf Schnuppertraining
END:VEVENT
BEGIN:VEVENT
UID:20260420T084019CEST-35584BRkaV@Saalfelden-Leogang.com
DTSTAMP:20260420T064019Z
DESCRIPTION;LANGUAGE=en:Learn cross-country skiing with Andrea Grossegger\n
 \n\n\nTime: \n\nWednesday\, 1:00 p.m.\n\n\n\nDuration: approx. 2 hours\n\n
 \n\n\n\nMeeting point: Nordic Park Saalfelden\n\n\n\n\n\nCost: included wi
 th the Saalfelden Leogang Card\, without card €30 per person\n\n\n\n\n\nEq
 uipment: Sport Grossegger\, Andrea Grossegger\, Tel: +43 664 5309289\n\n\n
 \n\n\n\n\n\n\nTo register\, scroll down further
DTSTART:20270120T120000Z
DTEND:20270120T120000Z
LOCATION;LANGUAGE=en:Nordic Park\, Saalfelden
SUMMARY;LANGUAGE=en:Langlauf Schnuppertraining
END:VEVENT
BEGIN:VEVENT
UID:20260420T084019CEST-3559tbSLRt@Saalfelden-Leogang.com
DTSTAMP:20260420T064019Z
DESCRIPTION;LANGUAGE=en:Learn cross-country skiing with Andrea Grossegger\n
 \n\n\nTime: \n\nWednesday\, 1:00 p.m.\n\n\n\nDuration: approx. 2 hours\n\n
 \n\n\n\nMeeting point: Nordic Park Saalfelden\n\n\n\n\n\nCost: included wi
 th the Saalfelden Leogang Card\, without card €30 per person\n\n\n\n\n\nEq
 uipment: Sport Grossegger\, Andrea Grossegger\, Tel: +43 664 5309289\n\n\n
 \n\n\n\n\n\n\nTo register\, scroll down further
DTSTART:20270127T120000Z
DTEND:20270127T120000Z
LOCATION;LANGUAGE=en:Nordic Park\, Saalfelden
SUMMARY;LANGUAGE=en:Langlauf Schnuppertraining
END:VEVENT
BEGIN:VEVENT
UID:20260420T084019CEST-3560F7rblk@Saalfelden-Leogang.com
DTSTAMP:20260420T064019Z
DESCRIPTION;LANGUAGE=en:Learn cross-country skiing with Andrea Grossegger\n
 \n\n\nTime: \n\nWednesday\, 1:00 p.m.\n\n\n\nDuration: approx. 2 hours\n\n
 \n\n\n\nMeeting point: Nordic Park Saalfelden\n\n\n\n\n\nCost: included wi
 th the Saalfelden Leogang Card\, without card €30 per person\n\n\n\n\n\nEq
 uipment: Sport Grossegger\, Andrea Grossegger\, Tel: +43 664 5309289\n\n\n
 \n\n\n\n\n\n\nTo register\, scroll down further
DTSTART:20270203T120000Z
DTEND:20270203T120000Z
LOCATION;LANGUAGE=en:Nordic Park\, Saalfelden
SUMMARY;LANGUAGE=en:Langlauf Schnuppertraining
END:VEVENT
BEGIN:VEVENT
UID:20260420T084019CEST-3561cKCs6T@Saalfelden-Leogang.com
DTSTAMP:20260420T064019Z
DESCRIPTION;LANGUAGE=en:Learn cross-country skiing with Andrea Grossegger\n
 \n\n\nTime: \n\nWednesday\, 1:00 p.m.\n\n\n\nDuration: approx. 2 hours\n\n
 \n\n\n\nMeeting point: Nordic Park Saalfelden\n\n\n\n\n\nCost: included wi
 th the Saalfelden Leogang Card\, without card €30 per person\n\n\n\n\n\nEq
 uipment: Sport Grossegger\, Andrea Grossegger\, Tel: +43 664 5309289\n\n\n
 \n\n\n\n\n\n\nTo register\, scroll down further
DTSTART:20270210T120000Z
DTEND:20270210T120000Z
LOCATION;LANGUAGE=en:Nordic Park\, Saalfelden
SUMMARY;LANGUAGE=en:Langlauf Schnuppertraining
END:VEVENT
BEGIN:VEVENT
UID:20260420T084019CEST-3563tUIkA2@Saalfelden-Leogang.com
DTSTAMP:20260420T064019Z
DESCRIPTION;LANGUAGE=en:Learn cross-country skiing with Andrea Grossegger\n
 \n\n\nTime: \n\nWednesday\, 1:00 p.m.\n\n\n\nDuration: approx. 2 hours\n\n
 \n\n\n\nMeeting point: Nordic Park Saalfelden\n\n\n\n\n\nCost: included wi
 th the Saalfelden Leogang Card\, without card €30 per person\n\n\n\n\n\nEq
 uipment: Sport Grossegger\, Andrea Grossegger\, Tel: +43 664 5309289\n\n\n
 \n\n\n\n\n\n\nTo register\, scroll down further
DTSTART:20270217T120000Z
DTEND:20270217T120000Z
LOCATION;LANGUAGE=en:Nordic Park\, Saalfelden
SUMMARY;LANGUAGE=en:Langlauf Schnuppertraining
END:VEVENT
BEGIN:VEVENT
UID:20260420T084019CEST-3564emCGum@Saalfelden-Leogang.com
DTSTAMP:20260420T064019Z
DESCRIPTION;LANGUAGE=en:Learn cross-country skiing with Andrea Grossegger\n
 \n\n\nTime: \n\nWednesday\, 1:00 p.m.\n\n\n\nDuration: approx. 2 hours\n\n
 \n\n\n\nMeeting point: Nordic Park Saalfelden\n\n\n\n\n\nCost: included wi
 th the Saalfelden Leogang Card\, without card €30 per person\n\n\n\n\n\nEq
 uipment: Sport Grossegger\, Andrea Grossegger\, Tel: +43 664 5309289\n\n\n
 \n\n\n\n\n\n\nTo register\, scroll down further
DTSTART:20270224T120000Z
DTEND:20270224T120000Z
LOCATION;LANGUAGE=en:Nordic Park\, Saalfelden
SUMMARY;LANGUAGE=en:Langlauf Schnuppertraining
END:VEVENT
BEGIN:VEVENT
UID:20260420T084019CEST-3565RHKnun@Saalfelden-Leogang.com
DTSTAMP:20260420T064019Z
DESCRIPTION;LANGUAGE=en:Learn cross-country skiing with Andrea Grossegger\n
 \n\n\nTime: \n\nWednesday\, 1:00 p.m.\n\n\n\nDuration: approx. 2 hours\n\n
 \n\n\n\nMeeting point: Nordic Park Saalfelden\n\n\n\n\n\nCost: included wi
 th the Saalfelden Leogang Card\, without card €30 per person\n\n\n\n\n\nEq
 uipment: Sport Grossegger\, Andrea Grossegger\, Tel: +43 664 5309289\n\n\n
 \n\n\n\n\n\n\nTo register\, scroll down further
DTSTART:20270303T120000Z
DTEND:20270303T120000Z
LOCATION;LANGUAGE=en:Nordic Park\, Saalfelden
SUMMARY;LANGUAGE=en:Langlauf Schnuppertraining
END:VEVENT
BEGIN:VEVENT
UID:20260420T084019CEST-3566dO5UWc@Saalfelden-Leogang.com
DTSTAMP:20260420T064019Z
DESCRIPTION;LANGUAGE=en:Learn cross-country skiing with Andrea Grossegger\n
 \n\n\nTime: \n\nWednesday\, 1:00 p.m.\n\n\n\nDuration: approx. 2 hours\n\n
 \n\n\n\nMeeting point: Nordic Park Saalfelden\n\n\n\n\n\nCost: included wi
 th the Saalfelden Leogang Card\, without card €30 per person\n\n\n\n\n\nEq
 uipment: Sport Grossegger\, Andrea Grossegger\, Tel: +43 664 5309289\n\n\n
 \n\n\n\n\n\n\nTo register\, scroll down further
DTSTART:20270310T120000Z
DTEND:20270310T120000Z
LOCATION;LANGUAGE=en:Nordic Park\, Saalfelden
SUMMARY;LANGUAGE=en:Langlauf Schnuppertraining
END:VEVENT
BEGIN:VEVENT
UID:20260420T084019CEST-3567EEVBgK@Saalfelden-Leogang.com
DTSTAMP:20260420T064019Z
DESCRIPTION;LANGUAGE=en:Learn cross-country skiing with Andrea Grossegger\n
 \n\n\nTime: \n\nWednesday\, 1:00 p.m.\n\n\n\nDuration: approx. 2 hours\n\n
 \n\n\n\nMeeting point: Nordic Park Saalfelden\n\n\n\n\n\nCost: included wi
 th the Saalfelden Leogang Card\, without card €30 per person\n\n\n\n\n\nEq
 uipment: Sport Grossegger\, Andrea Grossegger\, Tel: +43 664 5309289\n\n\n
 \n\n\n\n\n\n\nTo register\, scroll down further
DTSTART:20270317T120000Z
DTEND:20270317T120000Z
LOCATION;LANGUAGE=en:Nordic Park\, Saalfelden
SUMMARY;LANGUAGE=en:Langlauf Schnuppertraining
END:VEVENT
BEGIN:VEVENT
UID:20260420T084019CEST-3569ZUMJhV@Saalfelden-Leogang.com
DTSTAMP:20260420T064019Z
DESCRIPTION;LANGUAGE=en:Learn cross-country skiing with Andrea Grossegger\n
 \n\n\nTime: \n\nWednesday\, 1:00 p.m.\n\n\n\nDuration: approx. 2 hours\n\n
 \n\n\n\nMeeting point: Nordic Park Saalfelden\n\n\n\n\n\nCost: included wi
 th the Saalfelden Leogang Card\, without card €30 per person\n\n\n\n\n\nEq
 uipment: Sport Grossegger\, Andrea Grossegger\, Tel: +43 664 5309289\n\n\n
 \n\n\n\n\n\n\nTo register\, scroll down further
DTSTART:20270324T120000Z
DTEND:20270324T120000Z
LOCATION;LANGUAGE=en:Nordic Park\, Saalfelden
SUMMARY;LANGUAGE=en:Langlauf Schnuppertraining
END:VEVENT
BEGIN:VEVENT
UID:20260420T084019CEST-3570uGuLJe@Saalfelden-Leogang.com
DTSTAMP:20260420T064019Z
DESCRIPTION;LANGUAGE=en:Learn cross-country skiing with Andrea Grossegger\n
 \n\n\nTime: \n\nWednesday\, 1:00 p.m.\n\n\n\nDuration: approx. 2 hours\n\n
 \n\n\n\nMeeting point: Nordic Park Saalfelden\n\n\n\n\n\nCost: included wi
 th the Saalfelden Leogang Card\, without card €30 per person\n\n\n\n\n\nEq
 uipment: Sport Grossegger\, Andrea Grossegger\, Tel: +43 664 5309289\n\n\n
 \n\n\n\n\n\n\nTo register\, scroll down further
DTSTART:20270331T110000Z
DTEND:20270331T110000Z
LOCATION;LANGUAGE=en:Nordic Park\, Saalfelden
SUMMARY;LANGUAGE=en:Langlauf Schnuppertraining
END:VEVENT
BEGIN:VEVENT
UID:20260420T084019CEST-3571EUeUHr@Saalfelden-Leogang.com
DTSTAMP:20260420T064019Z
DESCRIPTION;LANGUAGE=en:Learn cross-country skiing with Andrea Grossegger\n
 \n\n\nTime: \n\nWednesday\, 1:00 p.m.\n\n\n\nDuration: approx. 2 hours\n\n
 \n\n\n\nMeeting point: Nordic Park Saalfelden\n\n\n\n\n\nCost: included wi
 th the Saalfelden Leogang Card\, without card €30 per person\n\n\n\n\n\nEq
 uipment: Sport Grossegger\, Andrea Grossegger\, Tel: +43 664 5309289\n\n\n
 \n\n\n\n\n\n\nTo register\, scroll down further
DTSTART:20270407T110000Z
DTEND:20270407T110000Z
LOCATION;LANGUAGE=en:Nordic Park\, Saalfelden
SUMMARY;LANGUAGE=en:Langlauf Schnuppertraining
END:VEVENT
BEGIN:VEVENT
UID:20260420T084019CEST-3572spNMbP@Saalfelden-Leogang.com
DTSTAMP:20260420T064019Z
DESCRIPTION;LANGUAGE=en:Learn cross-country skiing with Andrea Grossegger\n
 \n\n\nTime: \n\nWednesday\, 1:00 p.m.\n\n\n\nDuration: approx. 2 hours\n\n
 \n\n\n\nMeeting point: Nordic Park Saalfelden\n\n\n\n\n\nCost: included wi
 th the Saalfelden Leogang Card\, without card €30 per person\n\n\n\n\n\nEq
 uipment: Sport Grossegger\, Andrea Grossegger\, Tel: +43 664 5309289\n\n\n
 \n\n\n\n\n\n\nTo register\, scroll down further
DTSTART:20270414T110000Z
DTEND:20270414T110000Z
LOCATION;LANGUAGE=en:Nordic Park\, Saalfelden
SUMMARY;LANGUAGE=en:Langlauf Schnuppertraining
END:VEVENT
END:VCALENDAR
